
BEGIN:VCALENDAR
PRODID:-//Feedo Feed//NONSGML v1.0//EN
VERSION:2.0
CALSCALE:GREGORIAN
METHOD:PUBLISH
X-WR-CALNAME:Kolstad 29/5 
X-WR-CALDESC:
X-MS-OLK-FORCEINSPECTOROPEN:TRUE
BEGIN:VEVENT
DTSTAMP:20260420T005709Z
DTSTART:20240529T103000Z
DTEND:20240529T103000Z
TRANSP:TRANSPARENT
UID:28282024-05-29
SUMMARY:Kolstad 29/5 
DESCRIPTION:
URL:http://taigan.no/index.php/bussturer/kolstad-29-5?format=html
CATEGORIES:Bussturer
GEO:
LOCATION:Kolstad Arena
END:VEVENT
END:VCALENDAR